BEGIN:VCALENDAR
VERSION:2.0
PRODID:-//Tourrettes-sur-Loup - ECPv6.0.8//NONSGML v1.0//EN
CALSCALE:GREGORIAN
METHOD:PUBLISH
X-ORIGINAL-URL:https://tourrettessurloup.com
X-WR-CALDESC:évènements pour Tourrettes-sur-Loup
REFRESH-INTERVAL;VALUE=DURATION:PT1H
X-Robots-Tag:noindex
X-PUBLISHED-TTL:PT1H
BEGIN:VTIMEZONE
TZID:Europe/Paris
BEGIN:DAYLIGHT
TZOFFSETFROM:+0100
TZOFFSETTO:+0200
TZNAME:CEST
DTSTART:20230326T010000
END:DAYLIGHT
BEGIN:STANDARD
TZOFFSETFROM:+0200
TZOFFSETTO:+0100
TZNAME:CET
DTSTART:20231029T010000
END:STANDARD
BEGIN:DAYLIGHT
TZOFFSETFROM:+0100
TZOFFSETTO:+0200
TZNAME:CEST
DTSTART:20240331T010000
END:DAYLIGHT
BEGIN:STANDARD
TZOFFSETFROM:+0200
TZOFFSETTO:+0100
TZNAME:CET
DTSTART:20241027T010000
END:STANDARD
BEGIN:DAYLIGHT
TZOFFSETFROM:+0100
TZOFFSETTO:+0200
TZNAME:CEST
DTSTART:20250330T010000
END:DAYLIGHT
BEGIN:STANDARD
TZOFFSETFROM:+0200
TZOFFSETTO:+0100
TZNAME:CET
DTSTART:20251026T010000
END:STANDARD
BEGIN:DAYLIGHT
TZOFFSETFROM:+0100
TZOFFSETTO:+0200
TZNAME:CEST
DTSTART:20260329T010000
END:DAYLIGHT
BEGIN:STANDARD
TZOFFSETFROM:+0200
TZOFFSETTO:+0100
TZNAME:CET
DTSTART:20261025T010000
END:STANDARD
END:VTIMEZONE
BEGIN:VEVENT
DTSTART;TZID=Europe/Paris:20230104T080000
DTEND;TZID=Europe/Paris:20261230T133000
DTSTAMP:20260420T122645
CREATED:20230330T092417Z
LAST-MODIFIED:20260414T142726Z
UID:53915-1672819200-1798637400@tourrettessurloup.com
SUMMARY:Marché provençal hebdomadaire
DESCRIPTION:Le marché provençal de Tourrettes-sur-Loup se tient chaque mercredi matin\, de 8h à 13h30\, sur la place de la Libération. \nÀ compter du mercredi 6 mai 2026\, et durant toute la période estivale\, le marché hebdomadaire de Tourrettes-sur-Loup s’étendra sur l’intégralité du parking de la Libération chaque mercredi matin\, de 8h à 13h30. \nPour permettre son bon déroulement\, le stationnement sera interdit sur tout le parking les mercredis entre 6h30 et 14h30. Les véhicules contrevenants feront l’objet d’une mise en fourrière.
URL:https://tourrettessurloup.com/event/marche-provencal-hebdomadaire/
LOCATION:Place de la Libération\, Place de la LIbération\, Tourrettes-sur-Loup\, 06140
ATTACH;FMTTYPE=image/jpeg:https://tourrettessurloup.com/wp-content/uploads/2023/03/marche-hebdo-scaled.jpg
END:VEVENT
BEGIN:VEVENT
DTSTART;TZID=Europe/Paris:20230107T080000
DTEND;TZID=Europe/Paris:20251227T133000
DTSTAMP:20260420T122645
CREATED:20230802T142329Z
LAST-MODIFIED:20251027T132152Z
UID:55160-1673078400-1766842200@tourrettessurloup.com
SUMMARY:Petit marché du samedi
DESCRIPTION:Un petit marché s’installe tous les samedis matins sur la place du Scourédon\, juste derrière l’église Saint-Grégoire !
URL:https://tourrettessurloup.com/event/petit-marche-du-samedi/
LOCATION:Place de la Libération\, Place de la LIbération\, Tourrettes-sur-Loup\, 06140
ATTACH;FMTTYPE=image/jpeg:https://tourrettessurloup.com/wp-content/uploads/2023/08/AFFICHE-PANNEAU-scaled.jpg
END:VEVENT
BEGIN:VEVENT
DTSTART;TZID=Europe/Paris:20250325T143000
DTEND;TZID=Europe/Paris:20250617T160000
DTSTAMP:20260420T122645
CREATED:20250306T162231Z
LAST-MODIFIED:20250404T125030Z
UID:58882-1742913000-1750176000@tourrettessurloup.com
SUMMARY:Ateliers-séniors : cours de danse adaptée
DESCRIPTION:📆 Les mardis\, du 25 mars au 17 juin 2025\n🕘 De 14h30 à 16h\n📍 Espace Paul Ceuzin\n➡️ Cours gratuits pour les séniors à partir de 60 ans \n  \nLes ateliers de danse adaptée se déroulent en séances hebdomadaires de 1h30. Cette pratique permet de dynamiser son physique tout en mobilisant nos capacités cognitives grâce à la mémorisation des gestes et la coordination rythmique. \nElle aide à améliorer la santé globale\, à lutter contre la sédentarité et apporte un moment de légèreté et de détente… en bonne compagnie. \nC’est un moment de bonheur où chacun s’exerce\, au fil des ateliers\, dans un contexte ludique et convivial pour évoluer et gagner en autonomie. La danse favorise l’expression de soi\, la cohésion du groupe et le lien social entre les participants. Il s’agit de développer la mobilité articulaire des seniors et de se repérer dans l’espace. \nCes cours sont en partenariat avec l’ASEPT PACA et sont offerts aux participants par la Conférence des Financeurs de la Prévention de la Perte d’Autonomie des Personnes Âgées du département des Alpes-Maritimes. \nDéroulement d’une séance :   \n✔ Échauffement corporel : mobilisation des articulations\, tonicité musculaire. \n✔ Travail de respiration et de posture. \n✔ Travail de coordination\, de spatialité et de rythmique des mouvements. \n✔ Enchaînements chorégraphiques ou apprentissage de pas de danse. \n✔ Mobilisation de la mémoire avec rappel des séances précédentes. \n✔ Fin de séance avec un moment de détente. \n  \nInscription et renseignement : \n\nCCAS de Tourrettes-sur-Loup : 04 93 59 40 75  /  ccas@tsl06.fr\nFormulaire de demande d’nscription aux ateliers du CCAS – 2025 (Le formulaire d’inscription peut être adressé au CCAS\, remis au guichet du CCAS ou à l’accueil de la Mairie)
URL:https://tourrettessurloup.com/event/ateliers-seniors-cours-de-danse-adaptee/
LOCATION:Espace Paul Ceuzin\, 1 route du Pré Neuf\, Tourrettes sur Loup\, 06140\, France
CATEGORIES:Ateliers CCAS
ATTACH;FMTTYPE=image/jpeg:https://tourrettessurloup.com/wp-content/uploads/2025/03/AFFICHE-DANSE-scaled.jpg
ORGANIZER;CN="CCAS%20de%20Tourrettes-sur-Loup":MAILTO:ccas@tsl06.fr
END:VEVENT
BEGIN:VEVENT
DTSTART;TZID=Europe/Paris:20250327T090000
DTEND;TZID=Europe/Paris:20250703T100000
DTSTAMP:20260420T122645
CREATED:20250306T162654Z
LAST-MODIFIED:20250404T125054Z
UID:58885-1743066000-1751536800@tourrettessurloup.com
SUMMARY:Ateliers-séniors : Pilates et Gymnastique Tonique
DESCRIPTION:GYMNASTIQUE TONIQUE :\n📆 Les jeudis\, du 27 mars au 3 juillet 2025\n🕘 De 9h à 10h\n📍 Espace Paul Ceuzin\n \nPILATES :\n📆 Les lundis\, du 31 mars au 30 juin 2025\n🕘 De 9h à 10h\n📍 Espace Paul Ceuzin\n \n➡️ Les deux ateliers sont indissociables\n➡️ Ateliers gratuits pour les séniors à partir de 60 ans \n  \nPrévention Active Sénior (PAS) – Programmes d’Activité Physique Adaptée aux seniors\nAprès la belle réussite des programmes mis en place depuis 2017\, l’aventure PAS continue avec de nouvelles communes ! Tourrettes-sur-Loup fait partie des communes à avoir choisi d’offrir ce programme à ses seniors. 24 séances d’activité physique adaptée pendant 3 mois\, à raison de 2 séances par semaine seront proposées aux personnes de plus de 60 ans entre mars et juillet 2025. L’objectif est d’optimiser leur capital santé\, leur qualité de vie et de créer du lien social. \nCette action est offerte aux participants par la Conférence des Financeurs de la Prévention de la Perte d’Autonomie des Personnes Âgées du département des Alpes-Maritimes. Elle sera ouverte à toutes les personnes de plus de 60 ans qui souhaitent reprendre une activité physique adaptée. Il leur est possible de venir accompagnées d’un proche ou d’un aidant. \n  \nInscription et renseignement : \n\nCCAS de Tourrettes-sur-Loup : 04 93 59 40 75  /  ccas@tsl06.fr\nAzur Sport Santé : 07 43 01 78 16  /  du lundi au vendredi de 9h à 12h et 14h à 17h\nFormulaire de demande d’nscription aux ateliers du CCAS – 2025 (Le formulaire d’inscription peut être adressé au CCAS\, remis au guichet du CCAS ou à l’accueil de la Mairie)
URL:https://tourrettessurloup.com/event/ateliers-seniors-pilates-et-gym-tonique/
LOCATION:Espace Paul Ceuzin\, 1 route du Pré Neuf\, Tourrettes sur Loup\, 06140\, France
CATEGORIES:Ateliers CCAS
ATTACH;FMTTYPE=image/jpeg:https://tourrettessurloup.com/wp-content/uploads/2025/03/FLYER-PROJET-PAS-A3.jpg
ORGANIZER;CN="CCAS%20de%20Tourrettes-sur-Loup":MAILTO:ccas@tsl06.fr
END:VEVENT
BEGIN:VEVENT
DTSTART;TZID=Europe/Paris:20250403T083000
DTEND;TZID=Europe/Paris:20250703T100000
DTSTAMP:20260420T122645
CREATED:20250306T163748Z
LAST-MODIFIED:20250306T163842Z
UID:58891-1743669000-1751536800@tourrettessurloup.com
SUMMARY:Ateliers-séniors : cours de Tennis-santé
DESCRIPTION:📆 Les jeudis\, du 24 avril au 3 juillet 2025 (évaluations de début de cycle le jeudi 3 avril)\n🕘 De 8h30 à 10h\n📍 Tourrettes Tennis Club – 141\, route du Stade (parking à proximité)\n✅ Priorité aux personnes non-inscrites aux précédentes cessions de Tennis-santé\n➡️ Cours gratuits pour les séniors à partir de 60 ans\n \n  \nLe CCAS de Tourrettes-sur-Loup vous propose de participer à  12 cessions gratuites d’atelier « tennis-santé » \, afin d’améliorer vos capacités physiques dans des conditions adaptées. \nCette activité s’adresse à tous\, y compris à des débutants n’ayant jamais pratiqué le tennis\, à un rythme modéré et s’adaptant à vos capacités physiques. Elle sera encadrée par un éducateur sportif spécialisé dans le sport santé. \n🎾 Qui encadre les ateliers ? \nL’enseignement et les ateliers sont assurés par un éducateur sportif « Sport-Santé » diplômé et qualifié\, Benjamin Kirschhoffer. \nBenjamin est titulaire d’un DEUG STAPS\, d’une licence STAPS « Santé Vieillissement Activités Physiques Adaptées »\, d’un Certificat de Qualification Professionnelle d’Educateur de Tennis et d’une formation spécifique Tennis Santé délivrée par la Fédération Française de Tennis. \nVous pouvez contacter l’éducateur sportif pour toute demande d’information : \nBenjamin Kirschhoffer. 06 13 97 82 40 • benjamk78@gmail.com \n🎾 Quels équipements prévoir ? \nVous devez penser à vous équiper d’une tenue de sport confortable avec de bonnes chaussures de sport. \nLe matériel (balles de tennis\, raquettes…) vous sera fourni dans le cadre des ateliers. Les balles sont plus souples et plus légères et les raquettes sont également adaptées à votre morphologie. \n🎾 Tests d’évaluation \nDes tests d’évaluation\, en début et en fin de cycle\, seront prévus et permettront d’évaluer les bénéfices de cette activité pour les participants. Les tests de condition physique de début de cycle auront lieu le jeudi 3 avril 2025 de 8h30 à 10h\, au Tourrettes Tennis club. L’intervenant vous contactera pour fixer\, avec vous\, un rendez-vous.
URL:https://tourrettessurloup.com/event/58891/
LOCATION:Tourrettes Tennis Club\, 141 route du Stade\, Tourrettes-sur-Loup\, 06140
CATEGORIES:Ateliers CCAS
ATTACH;FMTTYPE=image/jpeg:https://tourrettessurloup.com/wp-content/uploads/2025/03/AFFICHE-A3-TENNIS-SANTE-CCAS-TOURRETTES-SUR-LOUP_2025-scaled.jpg
ORGANIZER;CN="CCAS%20de%20Tourrettes-sur-Loup":MAILTO:ccas@tsl06.fr
END:VEVENT
BEGIN:VEVENT
DTSTART;VALUE=DATE:20250503
DTEND;VALUE=DATE:20250927
DTSTAMP:20260420T122645
CREATED:20250414T090706Z
LAST-MODIFIED:20250429T073525Z
UID:59137-1746230400-1758931199@tourrettessurloup.com
SUMMARY:Biennale Art & Nature 2025
DESCRIPTION:📆 Du 3 mai au 26 septembre 2025\n📍 Mairie et Espace Muséal de Tourrettes-sur-Loup (entrée libre) \n  \nLe vernissage de l’exposition aura lieu le samedi 3 mai 2025 à 11h\,\nsuivi de la remise des prix « Art & Nature ».\nDes animations et conférences proposées par les quatre artistes\nse tiendront l’après-midi\, de 14h30 à 17h. \n  \nLa Fondation Rampp\, en partenariat avec la commune de Tourrettes-sur-Loup\, présente les lauréats de son prix « Art & Nature 2024 » dans le cadre exceptionnel du village médiéval. \nDu 3 mai au 26 septembre 2025\, des artistes de renommée internationale exposeront leurs œuvres dans le village\, notamment au château-mairie et dans son Espace Muséal. Une occasion unique pour les visiteurs de découvrir l’art dans un cadre singulier et de se reconnecter à la nature. \nCette Biennale propose de réfléchir sur notre relation avec l’art et la nature\, à travers des œuvres qui ouvrent un dialogue entre l’intime\, la lumière et le mystère. \nLes artistes exposés : \n\nBarbara Schroeder\nAlice Magne\nNatalia Jaime-Cortez\nSibylle Besançon\n\nCommissaire d’exposition : Ulrich Rampp \nHoraires d’ouverture : lundi – vendredi : 9h30 – 12h30\, 14h00 – 17h30 \n  \n\n\nPRÉSENTATION DES ARTISTES\n  \n \nNatalia Jaime-Cortez (Hall d’entrée)\nTANDIS QUE LE FLEUVE S’ÉCOULE  \nLe travail de Nathalie\, ces dernières années\, porte sur l’eau tant dans sa pratique picturale sur papier\, que dans les gestes qu’elle met en place au bord des rives du monde. Alors qu’elle plonge son papier dans différentes eaux — fleuves\, mers\, ruisseaux\, cascades —\, l’artiste documente ce rituel par le biais de vidéos\, tâchant ainsi de relier par ce geste performatif toutes les rives du monde et restant à l’écoute des récits\, mémoires et luttes de ces sites spécifiques que ce simple geste vient éclairer. Car l’eau n’est pas seulement purificatrice\, elle est aussi le sédiment de nombreux conflits tragiques de notre monde.  \n  \n \nBarbara Schroeder (Salles 1 et 2 – 2ème étage)\nCULTIVER UNE ATTENTION AUX SOLS  \nEn rendant hommage au monde paysan\, à ceux qui soignent la terre\, Barbara tend à mettre au jour des empreintes de la vie à la campagne\, s’attache à redonner de la noblesse à ceux qui façonnent\, entretiennent les sols et nourrissent la planète. Ses réflexions germent au gré de ses gestes de collecte et de transformation des matériaux issus du sol\, habitat d’êtres en dormance.  \nCes matières organiques\, précieuses et souvent oubliées\, deviennent dans son œuvre Le Banquet une substance régénérante\, révélée au fil du processus de création. \n  \nAlice Magne (Salles 3\, 4 et 5 – 2ème étage)\nPEINDRE AVEC LE VIVANT  \nFascinée par les paysages et les subtilités des matières naturelles\, Alice développe une pratique artistique qui lie intimement peinture et teinture\, dans une démarche respectueuse du vivant. À travers ses gestes méticuleux\, elle rend hommage à la nature\, à ses cycles et à ses transformations.  \nSes oeuvres naissent d’une collaboration étroite avec les végétaux. Chaque teinte\, chaque empreinte résulte d’un processus patient où fleurs\, tiges et feuilles se métamorphosent en pigments.  \n  \nSibylle Besançon (Montée d’escalier)\nLA FORÊT  \nLes oeuvres de Sibylle nous invitent à cultiver une qualité d’attention spacieuse\, à voir large et à changer de posture. Le piquant de la ronce sert d’appui : l’artiste y voit un allié pour s’appuyer\, avancer avec souplesse et solidité\, mêler\, enlacer\, tendre. Intuitive\, Sybille se situe du côté des artistes qui ont besoin de faire pour réfléchir\, dans un va et vient nourrissant entre la main qui fait et un regard interrogateur et exigeant.  \n 
URL:https://tourrettessurloup.com/event/biennale-art-nature-2025/
LOCATION:Espace Muséal\, Place Maximin Escalier\, Tourrettes-sur-Loup\, 06140
CATEGORIES:A la Une événement - page d'accueil,Expositions culturelles
ATTACH;FMTTYPE=image/jpeg:https://tourrettessurloup.com/wp-content/uploads/2025/04/affiche-ART-et-Nature-2025-scaled.jpg
ORGANIZER;CN="Fondation%20Rampp":MAILTO:info@ulrichramppfoundation.org
END:VEVENT
BEGIN:VEVENT
DTSTART;TZID=Europe/Paris:20250604T090000
DTEND;TZID=Europe/Paris:20250702T103000
DTSTAMP:20260420T122645
CREATED:20250401T140832Z
LAST-MODIFIED:20250404T125126Z
UID:59070-1749027600-1751452200@tourrettessurloup.com
SUMMARY:Cycle de conférences : Séniors actifs - prévention et bien-être
DESCRIPTION:📆 5 séances chaque mercredi du 4 juin 2025 au 2 juillet 2025\n🕘 De 9h à 10h30\n📍 Espace Paul Ceuzin\n➡️ Atelier gratuit pour les séniors à partir de 60 ans \n  \nLa conférence « Seniors Actifs : Prévention et Bien-Être » est un programme original\, innovant et interactif pour sensibiliser les Séniors sur 5 thématiques importantes pour leurs quotidiens afin d’anticiper et de réduire les risques liés à divers problèmes les concernant.  Ces thèmes sont les suivants : Prévention des chutes – Nutrition et alimentation équilibrée – Rester en bonne forme physique – Santé mentale et mémoire – Bien chez soi.  \nChaque semaine\, une thématique spécifique sera traitée. Les participants seront amenés à répondre à des questions\, sous forme de quizz\, et à discuter de certaines idées reçues sur ces sujets\, afin d’approfondir leurs connaissances et de mieux comprendre leur impact sur leur santé et leur bien-être. Le but est de gagner des points en répondant correctement à des questions en rapport avec les 5 thématiques précédentes. Pour cela\, ils devront se déplacer vers la zone correspondant à la réponse en faisant des mouvements que le coach sportif aura indiqués. Chaque réponse sera l’occasion de se mettre en mouvement.  \nLes séances dureront environ 1h30 et se dérouleront sur une période de 5 semaines\, avec un thème différent chaque semaine.Celles-ci seront l’occasion d’échanger\, de poser des questions et de partager des conseils pratiques pour améliorer le quotidien de vos administrés. \n  \nInscription et renseignement : \n\nCCAS de Tourrettes-sur-Loup : 04 93 59 40 75  /  ccas@tsl06.fr\nFormulaire de demande d’nscription aux ateliers du CCAS – 2025 (Le formulaire d’inscription peut être adressé au CCAS\, remis au guichet du CCAS ou à l’accueil de la Mairie)\n\n 
URL:https://tourrettessurloup.com/event/conference-seniors-actifs-prevention-et-bien-etre/
LOCATION:Espace Paul Ceuzin\, 1 route du Pré Neuf\, Tourrettes sur Loup\, 06140\, France
CATEGORIES:Ateliers CCAS
ATTACH;FMTTYPE=image/jpeg:https://tourrettessurloup.com/wp-content/uploads/2025/04/Affiche-conference-2025.jpg
ORGANIZER;CN="CCAS%20de%20Tourrettes-sur-Loup":MAILTO:ccas@tsl06.fr
END:VEVENT
END:VCALENDAR